BEGIN:VCALENDAR
VERSION:2.0
PRODID:-//Oulun Teknillinen Seura - ECPv6.15.14//NONSGML v1.0//EN
CALSCALE:GREGORIAN
METHOD:PUBLISH
X-WR-CALNAME:Oulun Teknillinen Seura
X-ORIGINAL-URL:https://www.ots.fi
X-WR-CALDESC:Tapahtumat Oulun Teknillinen Seura
REFRESH-INTERVAL;VALUE=DURATION:PT1H
X-Robots-Tag:noindex
X-PUBLISHED-TTL:PT1H
BEGIN:VTIMEZONE
TZID:Europe/Helsinki
BEGIN:DAYLIGHT
TZOFFSETFROM:+0200
TZOFFSETTO:+0300
TZNAME:EEST
DTSTART:20170326T010000
END:DAYLIGHT
BEGIN:STANDARD
TZOFFSETFROM:+0300
TZOFFSETTO:+0200
TZNAME:EET
DTSTART:20171029T010000
END:STANDARD
BEGIN:DAYLIGHT
TZOFFSETFROM:+0200
TZOFFSETTO:+0300
TZNAME:EEST
DTSTART:20180325T010000
END:DAYLIGHT
BEGIN:STANDARD
TZOFFSETFROM:+0300
TZOFFSETTO:+0200
TZNAME:EET
DTSTART:20181028T010000
END:STANDARD
BEGIN:DAYLIGHT
TZOFFSETFROM:+0200
TZOFFSETTO:+0300
TZNAME:EEST
DTSTART:20190331T010000
END:DAYLIGHT
BEGIN:STANDARD
TZOFFSETFROM:+0300
TZOFFSETTO:+0200
TZNAME:EET
DTSTART:20191027T010000
END:STANDARD
BEGIN:DAYLIGHT
TZOFFSETFROM:+0200
TZOFFSETTO:+0300
TZNAME:EEST
DTSTART:20200329T010000
END:DAYLIGHT
BEGIN:STANDARD
TZOFFSETFROM:+0300
TZOFFSETTO:+0200
TZNAME:EET
DTSTART:20201025T010000
END:STANDARD
END:VTIMEZONE
BEGIN:VEVENT
DTSTART;TZID=Europe/Helsinki:20190830T180000
DTEND;TZID=Europe/Helsinki:20190830T220000
DTSTAMP:20260422T220140
CREATED:20190703T165935Z
LAST-MODIFIED:20190806T203552Z
UID:352-1567188000-1567202400@www.ots.fi
SUMMARY:Perinteiset rapujuhlat
DESCRIPTION:Oulun Teknillinen Seura järjestää perinteiset Rapujuhlat Teekkaritalolla 30. elokuuta 2019 klo 18.00 alkaen.  \nTapahtumasta lähetetään erillinen kutsu.
URL:https://www.ots.fi/tapahtumat/perinteiset-rapujuhlat/
LOCATION:Teekkaritalo\, Kalervontie 7\, Oulu\, 90570\, Suomi
END:VEVENT
BEGIN:VEVENT
DTSTART;VALUE=DATE:20190822
DTEND;VALUE=DATE:20190823
DTSTAMP:20260422T220140
CREATED:20190703T171327Z
LAST-MODIFIED:20190806T203431Z
UID:355-1566432000-1566518399@www.ots.fi
SUMMARY:Ekskursio Tornioon ja Haaparantaan
DESCRIPTION:Oulun Teknillinen Seura järjestää Oulun insinöörien kanssa ekskursion Tornioon ja Haaparantaan 22. elokuuta 2019. Excursion vierailukohteita ovat Outokummun terästehdas\, IKEA ja Tornion panimo. \nTapahtumasta lähetetään erillinen kutsu.
URL:https://www.ots.fi/tapahtumat/pohjoisen-ekskursio/
END:VEVENT
BEGIN:VEVENT
DTSTART;TZID=Europe/Helsinki:20190807T180000
DTEND;TZID=Europe/Helsinki:20190807T220000
DTSTAMP:20260422T220140
CREATED:20190806T141904Z
LAST-MODIFIED:20190806T203250Z
UID:364-1565200800-1565215200@www.ots.fi
SUMMARY:Kesäristely
DESCRIPTION:Oulun Teknillinen Seura järjestää kesäristeilyn M/S Alexandrialla keskiviikkona 7. elokuuta 2019. OTS:lle on varattu laivasta 20 paikkaa\, Seura maksaa jäsenilleen risteilylipun. \nRuoka ja juoma on laivalla omakustanteisesti\, omien eväiden tuominen alukselle ei ole sallittua. \nTapahtumasta on lähetetty erillinen kutsu jäsenten sähköpostilistalle.
URL:https://www.ots.fi/tapahtumat/kesaristely/
LOCATION:M/S Alexandra\, Kauppatori\, Oulu\, Suomi
END:VEVENT
BEGIN:VEVENT
DTSTART;TZID=Europe/Helsinki:20190522T170000
DTEND;TZID=Europe/Helsinki:20190522T210000
DTSTAMP:20260422T220140
CREATED:20190515T101241Z
LAST-MODIFIED:20190515T101503Z
UID:343-1558544400-1558558800@www.ots.fi
SUMMARY:Senioreiden illanvietto
DESCRIPTION:Oulun Insinöörien seniorit kutsuvat OTS:n senioreita illanviettoon ja saunomaan keskiviikkona 22.5.2019. Pyyhkeet talon puolesta. Kulut maksaa OTS eli osallistujille maksuton. \nTarjolla on ruokaa\, virvokkeita\, musiikkia ja mukavaa seuraa sekä saunomismahdollisuus. Tilaisuuteen on kutsuttu Oulun Insinöörien seniorien lisäksi myös Oulun Teknillisen Seuran seniorit. Jos kiinnostuit\, niin ilmoittautuminen mielellään viimeistään 20.5. mennessä. \nIlmoittautuminen lomakkeella (valitse lomakkeelta Seniorisauna 22.5.2019) \ntai \nRiku Lemiselle riku.leminen@ouluninsinoorit.fi 040-5663514. Muista kertoa yhdistyksesi OTS.
URL:https://www.ots.fi/tapahtumat/senioreiden-illanvietto/
LOCATION:Villa Kaljaasi\, Kaljaasintie 8\, Oulu\, 90500\, Suomi
END:VEVENT
BEGIN:VEVENT
DTSTART;VALUE=DATE:20190517
DTEND;VALUE=DATE:20190518
DTSTAMP:20260422T220140
CREATED:20190505T163848Z
LAST-MODIFIED:20190515T094652Z
UID:326-1558051200-1558137599@www.ots.fi
SUMMARY:Teknillisten seurojen juhlaristeily ja seminaari
DESCRIPTION:Oulun ja Kuopion Teknillisten Seurojen 110-vuotisja Vaasan Teknillisen Seuran 100-vuotisjuhlaristeily järjestetään 17.-19.5.2019 Tukholmaan. Samassa yhteydessä pidetään TEKin alueseurojen ja kerhojen seminaari. \nOTS:lla on 15 paikkaa. OTS tukee osallistujia 50 €/hlö\, joten osallistumismaksu on 50 €/hlö kahden hengen hytissä tai 150 €/hlö yhden hengen hytissä. Maksu sisältää hyttipaikan ja ohjelman mukaiset tarjoilut\, jotka TEK tarjoaa. \nMatkakustannukset Helsinkiin maksaa jokainen osallistuja itse.
URL:https://www.ots.fi/tapahtumat/teknillisten-seurojen-juhlaristeily-ja-seminaari/
END:VEVENT
BEGIN:VEVENT
DTSTART;TZID=Europe/Helsinki:20190510T173000
DTEND;TZID=Europe/Helsinki:20190510T213000
DTSTAMP:20260422T220140
CREATED:20190505T164244Z
LAST-MODIFIED:20190505T164244Z
UID:328-1557509400-1557523800@www.ots.fi
SUMMARY:TEKin jäsenilta
DESCRIPTION:
URL:https://www.ots.fi/tapahtumat/tekin-jasenilta/
LOCATION:Aleksinkulma\, Aleksanterinkatu 9\, Oulu\, 90100\, Finland
END:VEVENT
BEGIN:VEVENT
DTSTART;TZID=Europe/Helsinki:20181215T170000
DTEND;TZID=Europe/Helsinki:20181215T220000
DTSTAMP:20260422T220140
CREATED:20181120T221355Z
LAST-MODIFIED:20181201T171814Z
UID:272-1544893200-1544911200@www.ots.fi
SUMMARY:Vaalikokous ja pikkujouluillallinen
DESCRIPTION:Vaalikokous ja perinteinen pikkujouluillallinen
URL:https://www.ots.fi/tapahtumat/vaalikokous-ja-pikkujouluillallinen/
LOCATION:Hotelli Radisson Blu\, Hallituskatu 1\, Oulu\, Oulu\, 90100\, Finland
END:VEVENT
BEGIN:VEVENT
DTSTART;TZID=Europe/Helsinki:20181215T140000
DTEND;TZID=Europe/Helsinki:20181215T160000
DTSTAMP:20260422T220140
CREATED:20181201T170515Z
LAST-MODIFIED:20181201T171620Z
UID:283-1544882400-1544889600@www.ots.fi
SUMMARY:Näytönpaikka pohjoisessa piilaaksossa-näyttely
DESCRIPTION:Oulun Teknillinen Seura ry:n jäsenet ovat tervetulleita Näytönpaikka pohjoisessa piilaksossa-näyttelyyn Oulun taidemuseolla alkaen kello 14.00. Opastettu kierros alkaa 15.00. \nSeura tarjoaa tervetuliaismaljan!
URL:https://www.ots.fi/tapahtumat/naytonpaikka-pohjoisessa-piilaaksossa-nayttely/
LOCATION:Oulun taidemuseo\, Kasarmintie 9\, Oulu\, Suomi
END:VEVENT
END:VCALENDAR